BEGIN:VCALENDAR
VERSION:2.0
PRODID:-//Medowie Gumnut Preschool - ECPv5.0.2.1//NONSGML v1.0//EN
CALSCALE:GREGORIAN
METHOD:PUBLISH
X-WR-CALNAME:Medowie Gumnut Preschool
X-ORIGINAL-URL:http://www.medowiegumnuts.com.au
X-WR-CALDESC:Events for Medowie Gumnut Preschool
BEGIN:VTIMEZONE
TZID:UTC
BEGIN:STANDARD
TZOFFSETFROM:+0000
TZOFFSETTO:+0000
TZNAME:UTC
DTSTART:20200101T000000
END:STANDARD
END:VTIMEZONE
BEGIN:VEVENT
DTSTART;TZID=UTC:20200318T140000
DTEND;TZID=UTC:20200318T150000
DTSTAMP:20200301T165602
CREATED:20200211T040615Z
LAST-MODIFIED:20200211T040615Z
UID:6814-1584540000-1584543600@www.medowiegumnuts.com.au
SUMMARY:Magic Show
DESCRIPTION:
URL:http://www.medowiegumnuts.com.au/event/magic-show-2/
LOCATION:Medowie Gumnut Preschool
ATTACH;FMTTYPE=image/jpeg:http://www.medowiegumnuts.com.au/wordpress/wp-content/uploads/2020/02/magic.jpg
END:VEVENT
END:VCALENDAR